BEGIN:VCALENDAR
VERSION:2.0
PRODID:-//INOVAI - ECPv6.0.13.1//NONSGML v1.0//EN
CALSCALE:GREGORIAN
METHOD:PUBLISH
X-ORIGINAL-URL:https://inovai.org.br
X-WR-CALDESC:Eventos para INOVAI
REFRESH-INTERVAL;VALUE=DURATION:PT1H
X-Robots-Tag:noindex
X-PUBLISHED-TTL:PT1H
BEGIN:VTIMEZONE
TZID:America/Sao_Paulo
BEGIN:STANDARD
TZOFFSETFROM:-0300
TZOFFSETTO:-0300
TZNAME:-03
DTSTART:20250101T000000
END:STANDARD
END:VTIMEZONE
BEGIN:VEVENT
DTSTART;TZID=America/Sao_Paulo:20251015T100000
DTEND;TZID=America/Sao_Paulo:20251015T110000
DTSTAMP:20260420T222051
CREATED:20251010T135035Z
LAST-MODIFIED:20251010T135035Z
UID:10000127-1760522400-1760526000@inovai.org.br
SUMMARY:HardTalks: "A importância da comunicação para o empreendedor" com Symon Hill\, especialista em Comunicação e Saúde Mental
DESCRIPTION:🗓️ Dia: 15/10 (quarta-feira) \n🕘 Horário: 10h \n📍 Ao vivo pelo canal do Itajubá HardTech no Youtube \n  \nSymon\, em 2008 fundou a Apalestra Educação Corporativa\, uma empresa de consultoria e treinamento voltada para o desenvolvimento de habilidades sociais no mundo empresarial. Seu trabalho tem ajudado pessoas e empresas a resolver problemas de comunicação para aumentar a produtividade e lucratividade. \n  \n✏️ Inscreva-se! Participe conosco! \nhttps://bit.ly/ItajubaHardweek2025
URL:https://inovai.org.br/evento/hardtalks-a-importancia-da-comunicacao-para-o-empreendedor-com-symon-hill-especialista-em-comunicacao-e-saude-mental/
LOCATION:Youtube – Itajubá Hardtech
CATEGORIES:Hardweek
ATTACH;FMTTYPE=image/jpeg:https://inovai.org.br/wp-content/uploads/2025/10/HardTalks-A-importancia-da-comunicacao-para-o-empreendedor.jpg
END:VEVENT
END:VCALENDAR