BEGIN:VCALENDAR
VERSION:2.0
PRODID:-//INOVAI - ECPv6.0.13.1//NONSGML v1.0//EN
CALSCALE:GREGORIAN
METHOD:PUBLISH
X-WR-CALNAME:INOVAI
X-ORIGINAL-URL:https://inovai.org.br
X-WR-CALDESC:Eventos para INOVAI
REFRESH-INTERVAL;VALUE=DURATION:PT1H
X-Robots-Tag:noindex
X-PUBLISHED-TTL:PT1H
BEGIN:VTIMEZONE
TZID:America/Sao_Paulo
BEGIN:STANDARD
TZOFFSETFROM:-0300
TZOFFSETTO:-0300
TZNAME:-03
DTSTART:20250101T000000
END:STANDARD
END:VTIMEZONE
BEGIN:VEVENT
DTSTART;TZID=America/Sao_Paulo:20251023T190000
DTEND;TZID=America/Sao_Paulo:20251023T220000
DTSTAMP:20260420T222307
CREATED:20251010T140136Z
LAST-MODIFIED:20251010T140136Z
UID:10000132-1761246000-1761256800@inovai.org.br
SUMMARY:Ciência de Buteco: quando o conhecimento encontra a mesa do bar!
DESCRIPTION:Já pensou em conversar sobre ciência\, tecnologia e inovação de um jeito descontraído e aberto à comunidade? 🍻 \nO Itajubá Hardtech\, em parceria com o Laboratório Nacional de Astrofísica (LNA)\, convida você para o Ciência de Buteco — um evento que aproxima pesquisadores e o público em um bate-papo leve\, cheio de curiosidades e novas perspectivas sobre o universo científico. \n  \n💬 O que vai rolar: \nUm painel com pesquisadores do LNA\, HCI Tec\, UNIFEI e FMIT\, compartilhando ideias sobre o papel da ciência e da inovação no nosso dia a dia — tudo em um formato acessível\, inspirador e\, claro\, com aquele clima de buteco que a gente adora! \n  \n📍 Local: Armazém do Torresmo \n📅 Data: 23/10 \n⏰ Horário: 19h \n  \nVenha descobrir que a ciência também pode ser feita de boas conversas e conexões reais. \n  \n✏️ Inscreva-se! Participe conosco! \nhttps://bit.ly/ItajubaHardweek2025
URL:https://inovai.org.br/evento/ciencia-de-buteco-quando-o-conhecimento-encontra-a-mesa-do-bar/
LOCATION:Armazém do Torresmo\, R. Antônio Simão Mauad\, 693 - Pinheirinho\, Itajubá\, Minas Gerais\, 37500-176\, Brazil
CATEGORIES:Happy Hour
ATTACH;FMTTYPE=image/png:https://inovai.org.br/wp-content/uploads/2025/10/HardTalks-A-importancia-da-comunicacao-para-o-empreendedor.png
END:VEVENT
BEGIN:VEVENT
DTSTART;TZID=America/Sao_Paulo:20251025T140000
DTEND;TZID=America/Sao_Paulo:20251025T200000
DTSTAMP:20260420T222307
CREATED:20251010T141039Z
LAST-MODIFIED:20251010T141039Z
UID:10000134-1761400800-1761422400@inovai.org.br
SUMMARY:
DESCRIPTION:🎉 MKT EXPERIENCE | Marketplace Empreendedoras 4 Anos \n✨ Um evento imersivo\, inspirador e cheio de conexões reais!\nO MKT EXPERIENCE vai reunir empreendedoras de toda a região para um dia de palestras\, feira de negócios\, experiências\, networking e celebração dos 4 anos do Marketplace Empreendedoras. \n💡 Prepare-se para viver uma tarde de muito aprendizado\, trocas e crescimento.\nSerá o maior evento de empreendedorismo feminino do sul de Minas! \n📍 Local: Hotel Amantikyr – Itajubá/MG\n🗓️ Data: 25 de outubro de 2025 (sábado)\n🕑 Horário: das 14h às 20h
URL:https://inovai.org.br/evento/15643/
LOCATION:Hotel Amantikyr\, R. Dona Maria Carneiro\, 241 - Boa Vista\, Itajubá\, Minas Gerais\, 37505-008\, Brazil
CATEGORIES:Networking
ATTACH;FMTTYPE=image/jpeg:https://inovai.org.br/wp-content/uploads/2025/10/WhatsApp-Image-2025-10-09-at-14.12.12.jpeg
END:VEVENT
BEGIN:VEVENT
DTSTART;VALUE=DATE:20251029
DTEND;VALUE=DATE:20251030
DTSTAMP:20260420T222307
CREATED:20251010T135741Z
LAST-MODIFIED:20251010T135741Z
UID:10000130-1761696000-1761782399@inovai.org.br
SUMMARY:XXIII Feira de Empreendedorismo da FACESM (FEMF 2025)
DESCRIPTION:Em sua 23ª edição\, a FEMF 2025 adota o tema “Empreender com Inteligência Artificial”\, refletindo um dos maiores desafios e oportunidades da atualidade: o uso estratégico e responsável da tecnologia para transformar ideias em soluções inteligentes. \n  \n🗓️ Dias: 29 e 30/10 (quinta-feira) \n🕘 Horário: 14h \n📍 Evento presencial\, FACESM
URL:https://inovai.org.br/evento/xxiii-feira-de-empreendedorismo-da-facesm-femf-2025/
LOCATION:FACESM\, Av. Pres. Tancredo de Almeida Neves\, 45 - Avenida\, Itajubá\, Minas Gerais\, 37504-066\, Brazil
CATEGORIES:Feira
ATTACH;FMTTYPE=image/jpeg:https://inovai.org.br/wp-content/uploads/2025/10/cef9b46c-3b57-4591-aec1-c805b1379378.jpg
END:VEVENT
BEGIN:VEVENT
DTSTART;VALUE=DATE:20251030
DTEND;VALUE=DATE:20251031
DTSTAMP:20260420T222307
CREATED:20251010T135848Z
LAST-MODIFIED:20251010T135848Z
UID:10000131-1761782400-1761868799@inovai.org.br
SUMMARY:XXIII Feira de Empreendedorismo da FACESM (FEMF 2025)
DESCRIPTION:Em sua 23ª edição\, a FEMF 2025 adota o tema “Empreender com Inteligência Artificial”\, refletindo um dos maiores desafios e oportunidades da atualidade: o uso estratégico e responsável da tecnologia para transformar ideias em soluções inteligentes. \n  \n🗓️ Dias: 29 e 30/10 (quinta-feira) \n🕘 Horário: 14h \n📍 Evento presencial\, FACESM
URL:https://inovai.org.br/evento/xxiii-feira-de-empreendedorismo-da-facesm-femf-2025-2/
LOCATION:FACESM\, Av. Pres. Tancredo de Almeida Neves\, 45 - Avenida\, Itajubá\, Minas Gerais\, 37504-066\, Brazil
CATEGORIES:Feira
ATTACH;FMTTYPE=image/jpeg:https://inovai.org.br/wp-content/uploads/2025/10/cef9b46c-3b57-4591-aec1-c805b1379378.jpg
END:VEVENT
BEGIN:VEVENT
DTSTART;VALUE=DATE:20251204
DTEND;VALUE=DATE:20251205
DTSTAMP:20260420T222307
CREATED:20251125T120021Z
LAST-MODIFIED:20251125T120452Z
UID:10000135-1764806400-1764892799@inovai.org.br
SUMMARY:Jornada Nacional da Inovação
DESCRIPTION:📅 Data: 04/12/2025 \n🕗 Horário: 08h30 às 17h \n📍 Local: Universidade Federal de Itajubá – UNIFEI /\nInstituto de Engenharia de Produção e Gestão (IEPG)\nEndereço: IEPG\, Campus Prof. José Rodrigues Seabra – Av. BPS\, 1303 – Bairro Pinheirinho – Itajubá\, MG \n💡 Por que participar: \n\n\nConhecer tendências e práticas de inovação \n\n\nTrocar experiências com empresas\, startups e instituições \n\n\nFortalecer sua rede de contatos e impulsionar projetos estratégicos \n\n\nContribuir para a transição ecológica e digital na indústria \n\n\n👉 Garanta sua vaga e conecte-se ao futuro da inovação!\nJornada Nacional da Inovação – Etapa Estadual – Itajubá
URL:https://inovai.org.br/evento/jornada-nacional-da-inovacao/
LOCATION:Auditório Aureliano Chaves – IEPG/Unifei
CATEGORIES:Feira
ATTACH;FMTTYPE=image/png:https://inovai.org.br/wp-content/uploads/2025/11/CL000925_JORNADA_NACIONAL_DE_INOVA8783O_CARD_WPP_ALT2.png
END:VEVENT
BEGIN:VEVENT
DTSTART;TZID=America/Sao_Paulo:20260115T080000
DTEND;TZID=America/Sao_Paulo:20260115T170000
DTSTAMP:20260420T222307
CREATED:20260115T191647Z
LAST-MODIFIED:20260115T191647Z
UID:10000137-1768464000-1768496400@inovai.org.br
SUMMARY:II Hackathon das Clínicas
DESCRIPTION:O Hackathon das Clínicas 2026 é um evento técnico-científico presencial em Itajubá/MG que mobiliza múltiplos atores — hospitais\, universidades\, escolas médicas\, gestores públicos\, empresas de tecnologia e startups — para cocriar soluções aplicáveis aos desafios da assistência e da gestão. Em três dias\, times multidisciplinares percorrem talks\, mentorias e sprints de desenvolvimento orientados por evidências e economia em saúde\, visando eficiência operacional\, segurança do paciente\, rastreabilidade de processos e sustentabilidade. O encontro fortalece redes entre academia\, serviço e setor produtivo\, acelera a transferência de conhecimento e gera entregáveis concretos: catálogo/anais com os projetos\, vídeo-pitch de resultados e cartas de intenção para continuidade\, consolidando um legado de inovação para o sistema de saúde.
URL:https://inovai.org.br/evento/ii-hackathon-das-clinicas/
END:VEVENT
BEGIN:VEVENT
DTSTART;TZID=America/Sao_Paulo:20260121T090000
DTEND;TZID=America/Sao_Paulo:20260121T110000
DTSTAMP:20260420T222307
CREATED:20260115T191348Z
LAST-MODIFIED:20260115T191348Z
UID:10000136-1768986000-1768993200@inovai.org.br
SUMMARY:Workshop 4: Conexões que Geram Resultado - Mentoria Governança Inovadora
DESCRIPTION:  \n📢 Workshop 4: Conexões que Geram Resultado Dando continuidade ao trabalho das mentorias com Santiago Uribe na orgnização e impulsionamento de territórios inovadores\, iniciamos o ano de 2026 com o tema: 🌟 Como a colaboração intencional transforma conexões em valor real\, fortalece relações e gera impacto sustentável por meio do compromisso compartilhado e da lógica do ganha-ganha. 📅 Data: 21/01 ⏰ Horário: 09:00 – 11:00 🔗 Acesse pelo Google Meet : https://meet.google.com/suc-zwkp-fgm 👉 Não perca! Um momento para provocar novas formas de colaborar\, gerar resultados concretos e fortalecer o ecossistema. 📲 Clique e participe!
URL:https://inovai.org.br/evento/workshop-4-conexoes-que-geram-resultado-mentoria-governanca-inovadora/
CATEGORIES:Workshop
END:VEVENT
BEGIN:VEVENT
DTSTART;TZID=America/Sao_Paulo:20260225T100000
DTEND;TZID=America/Sao_Paulo:20260225T110000
DTSTAMP:20260420T222307
CREATED:20260324T113239Z
LAST-MODIFIED:20260324T113239Z
UID:10000144-1772013600-1772017200@inovai.org.br
SUMMARY:Hardtalks: "Inteligência Emocional em tempos de Inteligência Artificial"\, com Symon Hill
DESCRIPTION:Itajubá HardWeek – Edição Fevereiro/2026 \nHardtalks: “Inteligência Emocional em tempos de Inteligência Artificial”\, com Symon Hill \n🗓️ Dia: 25/02 (quarta-feira)\n🕘 Horário: 10h\n📍 Canal do Youtube Itajubá HardTech \nSymon é especialista em Comunicação e Saúde Mental no Trabalho\, consultor de empresas desde 2009 e autor do livro A arte de influenciar pessoas (2012). \n✏️ Inscreva-se! Participe conosco!\nhttps://bit.ly/ItajubaHardweek2026
URL:https://inovai.org.br/evento/hardtalks-inteligencia-emocional-em-tempos-de-inteligencia-artificial-com-symon-hill/
LOCATION:Youtube – Itajubá Hardtech
CATEGORIES:Hardweek
END:VEVENT
BEGIN:VEVENT
DTSTART;TZID=America/Sao_Paulo:20260225T160000
DTEND;TZID=America/Sao_Paulo:20260225T170000
DTSTAMP:20260420T222307
CREATED:20260324T113148Z
LAST-MODIFIED:20260324T113148Z
UID:10000143-1772035200-1772038800@inovai.org.br
SUMMARY:Hardtalks: "Reforma Tributária na prática: o que muda no caixa das empresas a partir de agora”\, com Rhayanna Vasconcelos
DESCRIPTION:Itajubá HardWeek – Edição Fevereiro/2026 \nHardtalks: “Reforma Tributária na prática: o que muda no caixa das empresas a partir de agora”\, com Rhayanna Vasconcelos \n🗓️ Dia: 25/02 (quarta-feira)\n🕘 Horário: 16h\n📍 Canal do Youtube Itajubá HardTech \nRhayanna é especialista em Direito Tributário e mestranda em Administração (UNIFEI)\, com foco em finanças e impacto da reforma tributária no setor de energia. Atua na docência em Direito Tributário\, integrando pesquisa acadêmica\, análise crítica e prática educacional. \n✏️ Inscreva-se! Participe conosco!\nhttps://bit.ly/ItajubaHardweek2026
URL:https://inovai.org.br/evento/hardtalks-reforma-tributaria-na-pratica-o-que-muda-no-caixa-das-empresas-a-partir-de-agora-com-rhayanna-vasconcelos/
LOCATION:Youtube – Itajubá Hardtech
CATEGORIES:Hardweek
END:VEVENT
BEGIN:VEVENT
DTSTART;TZID=America/Sao_Paulo:20260321T090000
DTEND;TZID=America/Sao_Paulo:20260321T110000
DTSTAMP:20260420T222307
CREATED:20260324T112559Z
LAST-MODIFIED:20260324T112559Z
UID:10000140-1774083600-1774090800@inovai.org.br
SUMMARY:🚀  STARTUP DAY - Itajubá HardTech - Café com Elas - Mulheres na Tecnologia 🚀
DESCRIPTION:O convite está na mesa\, e o café também! ☕️ 🚀 STARTUP DAY no Itajubá HardTech 🚀 Se você é apaixonada por tecnologia\, inovação e quer ser protagonista da sua história\, o Café com Elas é o seu lugar! Participe de um bate-papo incrível sobre o mercado\, desafios e o futuro das mulheres no setor. Seja para buscar inspiração\, fazer networking ou dar os primeiros passos na carreira\, esse encontro foi feito para você. 📅 Data: 21 de Março 🕘 Horário: 09h 📍 Local: Marketplace Empreendedoras – R. Francisco Masseli\, 473 – Centro\, Itajubá 🚀 Inscreva-se já: https://lnkd.in/d2p2t_G5 Vagas Limitadas! Evento Gratuito 😉
URL:https://inovai.org.br/evento/%f0%9f%9a%80-startup-day-itajuba-hardtech-cafe-com-elas-mulheres-na-tecnologia-%f0%9f%9a%80/
CATEGORIES:Evento
END:VEVENT
BEGIN:VEVENT
DTSTART;TZID=America/Sao_Paulo:20260324T080000
DTEND;TZID=America/Sao_Paulo:20260324T100000
DTSTAMP:20260420T222307
CREATED:20260324T113006Z
LAST-MODIFIED:20260324T113006Z
UID:10000142-1774339200-1774346400@inovai.org.br
SUMMARY:Nano Arte
DESCRIPTION:Lançamento oficial do projeto Nonoart: Pequenos Gigantes do Futuro\, uma iniciativa estratégica da Diamond Nero & Partners e parceiros. \n📍 Local: Auditório FEPI Eventos\n🗓️ Data: 24 de Março\, às 08h00 \nSão iniciativas que preparam Itajubá para os desafios do amanhã. Participe!
URL:https://inovai.org.br/evento/nano-arte/
LOCATION:FEPI\, Av. Dr. Antônio Braga Filho\, 687\, Itajubá\, Minas Gerais\, 37501-002\, Brasil
CATEGORIES:Evento
END:VEVENT
BEGIN:VEVENT
DTSTART;TZID=America/Sao_Paulo:20260325T080000
DTEND;TZID=America/Sao_Paulo:20260325T120000
DTSTAMP:20260420T222307
CREATED:20260324T112338Z
LAST-MODIFIED:20260324T112345Z
UID:10000138-1774425600-1774440000@inovai.org.br
SUMMARY:II Encontro dos Grupos de Trabalho - Itajubá HardTech
DESCRIPTION:🎉 II Encontro dos Grupos de Trabalho do Itajubá HardTech – Definição de Projetos 2026! Chegou a hora de transformar as nossas ideias em ação! 🚀✨ Em fevereiro\, tivemos um momento riquíssimo de escuta ativa\, onde mapeamos os desafios\, oportunidades e o que queremos para o futuro do nosso ecossistema. Agora\, vamos dar o próximo passo decisivo! Neste segundo encontro presencial\, iremos definir os projetos de 2026 e realizar a distribuição oficial dos Grupos de Trabalho (GTs). É o momento de consolidarmos o nosso Plano de Intervenções (Ações) com base em tudo o que construímos juntos na primeira reunião. 🤝🔧 📅 Data: 25 de março de 2026 🕗 Horário: 8h às 12h 📍 Local: FACESM 🎯 Objetivos do encontro: Apresentar e validar as propostas de projetos para 2026\, baseadas na nossa escuta ativa. Realizar a formação e distribuição dos atores nos Grupos de Trabalho (GTs). Consolidar e aprovar o Plano de Ações do Itajubá HardTech para este ciclo – Garantindo que as ações estejam 100% alinhadas com os objetivos e a capacidade de engajamento da nossa rede. 💬 Sua presença é essencial! Se você participou do primeiro encontro\, venha dar continuidade a essa construção. Se não pôde estar presente antes\, essa é a hora perfeita para se engajar\, escolher seu GT e fazer a diferença no nosso ecossistema neste ano. Vamos juntos tirar as ideias do papel e fortalecer ainda mais a inovação em Itajubá! 💡🌱
URL:https://inovai.org.br/evento/ii-encontro-dos-grupos-de-trabalho-itajuba-hardtech/
LOCATION:FACESM\, Av. Pres. Tancredo de Almeida Neves\, 45 - Avenida\, Itajubá\, Minas Gerais\, 37504-066\, Brazil
CATEGORIES:Reunião
END:VEVENT
BEGIN:VEVENT
DTSTART;TZID=America/Sao_Paulo:20260330T090000
DTEND;TZID=America/Sao_Paulo:20260330T100000
DTSTAMP:20260420T222307
CREATED:20260324T112445Z
LAST-MODIFIED:20260324T112445Z
UID:10000139-1774861200-1774864800@inovai.org.br
SUMMARY:Mentoria 6 com Santiago Uribe
DESCRIPTION:📢 Momento Governança Inovadora – Mentoria Individual Nesta etapa\, vamos aprofundar a discussão sobre Indicadores de impacto em ecossistemas de inovação: como mensurar a evolução da governança\, o nível de colaboração entre atores e os reflexos dessas dinâmicas no desenvolvimento territorial. A mentoria é um espaço para analisar a realidade local\, identificar oportunidades de fortalecimento e orientar ações estratégicas baseadas em evidências. 📍 Ecossistema: Itajubá HardTech 🗓 Data: 30/03 ⏰ Horário: 09h 💻 Acesso via Meet: acesso restrito a membros da governança e convidados. Conto com a participação de vocês para discutirmos sobre esse tema muito relevante no nosso território.
URL:https://inovai.org.br/evento/mentoria-6-com-santiago-uribe/
CATEGORIES:Workshop
END:VEVENT
BEGIN:VEVENT
DTSTART;VALUE=DATE:20260525
DTEND;VALUE=DATE:20260529
DTSTAMP:20260420T222307
CREATED:20260324T112851Z
LAST-MODIFIED:20260324T112851Z
UID:10000141-1779667200-1780012799@inovai.org.br
SUMMARY:HardTech Innovation 2026
DESCRIPTION:🚀 O maior evento de inovação do Sul de Minas \n📍 Itajubá – MG\n📅 25 a 28 de maio de 2026 \nUma mostra do que é desenvolvido em Itajubá e promove networking e inovação através de um ecossistema robusto\, aumentando cada vez mais a visibilidade do Sul de Minas no cenário nacional\, tornando-se uma vitrine tecnológica e ao mesmo tempo\, congregar líderes do ecossistema de inovação brasileiro para debater temas cruciais sobre empreendedorismo inovador.
URL:https://inovai.org.br/evento/hardtech-innovation-2026/
LOCATION:ExpoCenter Itajubá\, Parque de Itajubá\, Itajubá\, Minas Gerais\, Brasil
CATEGORIES:Feira
END:VEVENT
END:VCALENDAR