BEGIN:VCALENDAR
VERSION:2.0
PRODID:-//INOVAI - ECPv6.0.13.1//NONSGML v1.0//EN
CALSCALE:GREGORIAN
METHOD:PUBLISH
X-ORIGINAL-URL:https://inovai.org.br
X-WR-CALDESC:Eventos para INOVAI
REFRESH-INTERVAL;VALUE=DURATION:PT1H
X-Robots-Tag:noindex
X-PUBLISHED-TTL:PT1H
BEGIN:VTIMEZONE
TZID:America/Sao_Paulo
BEGIN:STANDARD
TZOFFSETFROM:-0300
TZOFFSETTO:-0300
TZNAME:-03
DTSTART:20260101T000000
END:STANDARD
END:VTIMEZONE
BEGIN:VEVENT
DTSTART;TZID=America/Sao_Paulo:20260324T080000
DTEND;TZID=America/Sao_Paulo:20260324T100000
DTSTAMP:20260420T141441
CREATED:20260324T113006Z
LAST-MODIFIED:20260324T113006Z
UID:10000142-1774339200-1774346400@inovai.org.br
SUMMARY:Nano Arte
DESCRIPTION:Lançamento oficial do projeto Nonoart: Pequenos Gigantes do Futuro\, uma iniciativa estratégica da Diamond Nero & Partners e parceiros. \n📍 Local: Auditório FEPI Eventos\n🗓️ Data: 24 de Março\, às 08h00 \nSão iniciativas que preparam Itajubá para os desafios do amanhã. Participe!
URL:https://inovai.org.br/evento/nano-arte/
LOCATION:FEPI\, Av. Dr. Antônio Braga Filho\, 687\, Itajubá\, Minas Gerais\, 37501-002\, Brasil
CATEGORIES:Evento
END:VEVENT
BEGIN:VEVENT
DTSTART;TZID=America/Sao_Paulo:20260325T080000
DTEND;TZID=America/Sao_Paulo:20260325T120000
DTSTAMP:20260420T141441
CREATED:20260324T112338Z
LAST-MODIFIED:20260324T112345Z
UID:10000138-1774425600-1774440000@inovai.org.br
SUMMARY:II Encontro dos Grupos de Trabalho - Itajubá HardTech
DESCRIPTION:🎉 II Encontro dos Grupos de Trabalho do Itajubá HardTech – Definição de Projetos 2026! Chegou a hora de transformar as nossas ideias em ação! 🚀✨ Em fevereiro\, tivemos um momento riquíssimo de escuta ativa\, onde mapeamos os desafios\, oportunidades e o que queremos para o futuro do nosso ecossistema. Agora\, vamos dar o próximo passo decisivo! Neste segundo encontro presencial\, iremos definir os projetos de 2026 e realizar a distribuição oficial dos Grupos de Trabalho (GTs). É o momento de consolidarmos o nosso Plano de Intervenções (Ações) com base em tudo o que construímos juntos na primeira reunião. 🤝🔧 📅 Data: 25 de março de 2026 🕗 Horário: 8h às 12h 📍 Local: FACESM 🎯 Objetivos do encontro: Apresentar e validar as propostas de projetos para 2026\, baseadas na nossa escuta ativa. Realizar a formação e distribuição dos atores nos Grupos de Trabalho (GTs). Consolidar e aprovar o Plano de Ações do Itajubá HardTech para este ciclo – Garantindo que as ações estejam 100% alinhadas com os objetivos e a capacidade de engajamento da nossa rede. 💬 Sua presença é essencial! Se você participou do primeiro encontro\, venha dar continuidade a essa construção. Se não pôde estar presente antes\, essa é a hora perfeita para se engajar\, escolher seu GT e fazer a diferença no nosso ecossistema neste ano. Vamos juntos tirar as ideias do papel e fortalecer ainda mais a inovação em Itajubá! 💡🌱
URL:https://inovai.org.br/evento/ii-encontro-dos-grupos-de-trabalho-itajuba-hardtech/
LOCATION:FACESM\, Av. Pres. Tancredo de Almeida Neves\, 45 - Avenida\, Itajubá\, Minas Gerais\, 37504-066\, Brazil
CATEGORIES:Reunião
END:VEVENT
BEGIN:VEVENT
DTSTART;TZID=America/Sao_Paulo:20260330T090000
DTEND;TZID=America/Sao_Paulo:20260330T100000
DTSTAMP:20260420T141441
CREATED:20260324T112445Z
LAST-MODIFIED:20260324T112445Z
UID:10000139-1774861200-1774864800@inovai.org.br
SUMMARY:Mentoria 6 com Santiago Uribe
DESCRIPTION:📢 Momento Governança Inovadora – Mentoria Individual Nesta etapa\, vamos aprofundar a discussão sobre Indicadores de impacto em ecossistemas de inovação: como mensurar a evolução da governança\, o nível de colaboração entre atores e os reflexos dessas dinâmicas no desenvolvimento territorial. A mentoria é um espaço para analisar a realidade local\, identificar oportunidades de fortalecimento e orientar ações estratégicas baseadas em evidências. 📍 Ecossistema: Itajubá HardTech 🗓 Data: 30/03 ⏰ Horário: 09h 💻 Acesso via Meet: acesso restrito a membros da governança e convidados. Conto com a participação de vocês para discutirmos sobre esse tema muito relevante no nosso território.
URL:https://inovai.org.br/evento/mentoria-6-com-santiago-uribe/
CATEGORIES:Workshop
END:VEVENT
BEGIN:VEVENT
DTSTART;VALUE=DATE:20260525
DTEND;VALUE=DATE:20260529
DTSTAMP:20260420T141441
CREATED:20260324T112851Z
LAST-MODIFIED:20260324T112851Z
UID:10000141-1779667200-1780012799@inovai.org.br
SUMMARY:HardTech Innovation 2026
DESCRIPTION:🚀 O maior evento de inovação do Sul de Minas \n📍 Itajubá – MG\n📅 25 a 28 de maio de 2026 \nUma mostra do que é desenvolvido em Itajubá e promove networking e inovação através de um ecossistema robusto\, aumentando cada vez mais a visibilidade do Sul de Minas no cenário nacional\, tornando-se uma vitrine tecnológica e ao mesmo tempo\, congregar líderes do ecossistema de inovação brasileiro para debater temas cruciais sobre empreendedorismo inovador.
URL:https://inovai.org.br/evento/hardtech-innovation-2026/
LOCATION:ExpoCenter Itajubá\, Parque de Itajubá\, Itajubá\, Minas Gerais\, Brasil
CATEGORIES:Feira
END:VEVENT
END:VCALENDAR