BEGIN:VCALENDAR
VERSION:2.0
PRODID:-//INOVAI - ECPv6.0.13.1//NONSGML v1.0//EN
CALSCALE:GREGORIAN
METHOD:PUBLISH
X-ORIGINAL-URL:https://inovai.org.br
X-WR-CALDESC:Eventos para INOVAI
REFRESH-INTERVAL;VALUE=DURATION:PT1H
X-Robots-Tag:noindex
X-PUBLISHED-TTL:PT1H
BEGIN:VTIMEZONE
TZID:America/Sao_Paulo
BEGIN:STANDARD
TZOFFSETFROM:-0300
TZOFFSETTO:-0300
TZNAME:-03
DTSTART:20250101T000000
END:STANDARD
END:VTIMEZONE
BEGIN:VEVENT
DTSTART;TZID=America/Sao_Paulo:20250715T160000
DTEND;TZID=America/Sao_Paulo:20250715T170000
DTSTAMP:20260420T210617
CREATED:20250716T181146Z
LAST-MODIFIED:20250716T190749Z
UID:10000124-1752595200-1752598800@inovai.org.br
SUMMARY:HardTaks "Inovação na Gestão Pública Municipal – Desafios e Oportunidades para Governos e Startups"
DESCRIPTION:  \nHardTalks Inovação na Gestão Pública Municipal – Desafios e Oportunidades para Governos e Startups”\, com Thales Tito\, Engenheiro e Planejador Urbano \n  \n🗓️ Dia: 15/07 (quarta-feira) \n🕘 Horário: 16h \n📍 Ao vivo pelo canal do Itajubá HardTech no Youtube \n  \nThales é especialista em Cidades Inteligentes e Inovação para Governos Digitais. \n  \nO webinar vai desvendar a inovação na gestão pública municipal. \nSerá abordado os  principais desafios que os governos enfrentam para inovar e\, mais importante\, as vastas oportunidades que surgem para municípios e startups.  \nDescubra como a colaboração entre governos e o ecossistema de inovação\, como o Itajubá HardTech\, podem transformar nossas cidades em ambientes mais inteligentes\, eficientes e sustentáveis. \n  \nNão perca essa chance de impulsionar a mudança! \n✏️ Inscreva-se! Participe conosco! \nhttps://bit.ly/ItajubaHardweek2025
URL:https://inovai.org.br/evento/hardtaks-inovacao-na-gestao-publica-municipal-desafios-e-oportunidades-para-governos-e-startups/
LOCATION:Youtube – Itajubá Hardtech
ATTACH;FMTTYPE=image/png:https://inovai.org.br/wp-content/uploads/2025/07/HardWeek-0725.png
END:VEVENT
BEGIN:VEVENT
DTSTART;TZID=America/Sao_Paulo:20250716T100000
DTEND;TZID=America/Sao_Paulo:20250716T110000
DTSTAMP:20260420T210617
CREATED:20250716T181412Z
LAST-MODIFIED:20250716T190625Z
UID:10000125-1752660000-1752663600@inovai.org.br
SUMMARY:HardTalks: "Liderar para Escalar: Competências 4.0 em Ambientes Ágeis"
DESCRIPTION:HardTalks Liderar para Escalar: Competências 4.0 em Ambientes Ágeis”\, com Andrea Garanovscki\, especialista em inovação\, dados e transformação digital; e Ricardo Santucci\, Economista\, pós-graduado em Gestão de Negócios. \n  \n🗓️ Dia: 16/07 (quarta-feira) \n🕘 Horário: 10h \n📍 Ao vivo pelo canal do Itajubá HardTech no Youtube \n  \nLiderar com as competências certas em tempos de incerteza é essencial para escalar negócios com agilidade e inovação. \nNeste talk\, você vai entender como seu protagonismo como líder é a chave para criar um ambiente de crescimento\, inovação contínua e encantamento do cliente. Venha explorar as competências 4.0 que impulsionam equipes e resultados em cenários desafiadores. \n  \n✏️ *Inscreva-se! Participe conosco!* \nhttps://bit.ly/ItajubaHardweek2025
URL:https://inovai.org.br/evento/hardtalks-liderar-para-escalar-competencias-4-0-em-ambientes-ageis/
LOCATION:Youtube – Itajubá Hardtech
ATTACH;FMTTYPE=image/jpeg:https://inovai.org.br/wp-content/uploads/2025/07/HardWeek-0725.jpg
END:VEVENT
BEGIN:VEVENT
DTSTART;TZID=America/Sao_Paulo:20250717T160000
DTEND;TZID=America/Sao_Paulo:20250717T170000
DTSTAMP:20260420T210617
CREATED:20250716T192538Z
LAST-MODIFIED:20250716T192538Z
UID:10000126-1752768000-1752771600@inovai.org.br
SUMMARY:Hardtalks:  “Consumo com Propósito: A Revolução do Wellness e o Novo Empreender”
DESCRIPTION:HardTalks ”Consumo com Propósito: A Revolução do Wellness e o Novo Empreender”\, com Liz Minto\, Co-founder AVO \n  \n🗓️ Dia: 17/07 (quinta-feira) \n🕘 Horário: 16h \n📍 Ao vivo pelo canal do do Itajubá HardTech no Youtube \n\nLiz Minto — Co-founder da AVO — compartilha sua visão sobre como o bem-estar deixou de ser uma tendência para se tornar um movimento que está transformando o mercado de consumo e os modelos de negócio.\n\nA partir de sua experiência à frente de uma marca referência no universo wellness\, Liz apresenta caminhos para empreender com propósito\, criando soluções que equilibram impacto positivo\, inovação e conexão genuína com as pessoas.\n\nUma conversa inspiradora sobre o novo perfil de consumidor\, as oportunidades no setor de wellness e como marcas conscientes estão moldando o futuro do consumo \n\n✏️ Inscreva-se! Participe conosco! \nhttps://bit.ly/ItajubaHardweek2025
URL:https://inovai.org.br/evento/hardtalks-consumo-com-proposito-a-revolucao-do-wellness-e-o-novo-empreender/
LOCATION:Youtube – Itajubá Hardtech
ATTACH;FMTTYPE=image/png:https://inovai.org.br/wp-content/uploads/2025/07/HardWeek-0725-1.png
END:VEVENT
END:VCALENDAR