BEGIN:VCALENDAR
VERSION:2.0
PRODID:-//INOVAI - ECPv6.0.13.1//NONSGML v1.0//EN
CALSCALE:GREGORIAN
METHOD:PUBLISH
X-ORIGINAL-URL:https://inovai.org.br
X-WR-CALDESC:Eventos para INOVAI
REFRESH-INTERVAL;VALUE=DURATION:PT1H
X-Robots-Tag:noindex
X-PUBLISHED-TTL:PT1H
BEGIN:VTIMEZONE
TZID:America/Sao_Paulo
BEGIN:STANDARD
TZOFFSETFROM:-0300
TZOFFSETTO:-0300
TZNAME:-03
DTSTART:20240101T000000
END:STANDARD
END:VTIMEZONE
BEGIN:VEVENT
DTSTART;TZID=America/Sao_Paulo:20240219T140000
DTEND;TZID=America/Sao_Paulo:20240219T153000
DTSTAMP:20260420T124615
CREATED:20240216T165255Z
LAST-MODIFIED:20240216T165255Z
UID:10000048-1708351200-1708356600@inovai.org.br
SUMMARY:Itajubá HardWeek – Edição Fevereiro: Compete Minas
DESCRIPTION:O subsecretário de Ciência\, Tecnologia e Inovação do Governo de Minas Gerais\, Bruno Araújo\, fará apresentação do “Compete Minas”\, programa que prevê investimentos de mais de R$100 milhões em projetos de inovação. \nA apresentação\, em 19/02\, acontecerá no auditório Aureliano Chaves\, no Instituto de Engenharia de Produção e Gestão (IEPG) da Universidade Federal de  Itajubá (Unifei)\, às 14 horas. \n✏️ Inscreva-se:
URL:https://inovai.org.br/evento/itajuba-hardweek-edicao-fevereiro-compete-minas/
LOCATION:Auditório Aureliano Chaves – IEPG/Unifei
CATEGORIES:Hardweek
ATTACH;FMTTYPE=image/jpeg:https://inovai.org.br/wp-content/uploads/2024/02/COMPETE.jpg
END:VEVENT
BEGIN:VEVENT
DTSTART;TZID=America/Sao_Paulo:20250520T210000
DTEND;TZID=America/Sao_Paulo:20250520T220000
DTSTAMP:20260420T124615
CREATED:20250512T124123Z
LAST-MODIFIED:20250512T124123Z
UID:10000112-1747774800-1747778400@inovai.org.br
SUMMARY:Lançamento do Livro:  As Hélices da Inovação: Uma Espiral de Ecossistemas - Vol.: 02 e do  Documentário:  “Universidades Empreendedoras: Histórico e Potencialidades no Cenário Brasileiro”
DESCRIPTION:  \nLançamento do Livro:  \nAs Hélices da Inovação: Uma Espiral de Ecossistemas – Vol.: 02\, escrito por Marcelo Gonçalves do Amaral (UFF)\, *Andréa Aparecida da Costa Mineiro (UNIFEI)* e Adriana Ferreira de Faria (UFV)\, e  \n  \nLançamento do Documentário:  \n“Universidades Empreendedoras: Histórico e Potencialidades no Cenário Brasileiro”\,  trabalho idealizado e produzido por *Patrícia Kelli Silva de Oliveira* e *Andrea Aparecida da Costa Mineiro*\, da UNIFEI. \n  \n🗓️ Dia: 20/05 (terça-feira) \n🕘 Horário: 21h \n📍 Auditório do IEPG (Unifei) \n  \n✏️ Inscreva-se! Participe conosco! \nhttps://bit.ly/ItajubaHardweek2025
URL:https://inovai.org.br/evento/lancamento-do-livro-as-helices-da-inovacao-uma-espiral-de-ecossistemas-vol-02-e-do-documentario-universidades-empreendedoras-historico-e-potencialidades-no-cenario-brasileiro/
LOCATION:Auditório Aureliano Chaves – IEPG/Unifei
CATEGORIES:Hardweek
ATTACH;FMTTYPE=image/png:https://inovai.org.br/wp-content/uploads/2025/05/Hardtalks-Startups-Sem-Fronteiras-Caminhos-para-a-Internacionalizacao-4.png
END:VEVENT
BEGIN:VEVENT
DTSTART;VALUE=DATE:20251204
DTEND;VALUE=DATE:20251205
DTSTAMP:20260420T124615
CREATED:20251125T120021Z
LAST-MODIFIED:20251125T120452Z
UID:10000135-1764806400-1764892799@inovai.org.br
SUMMARY:Jornada Nacional da Inovação
DESCRIPTION:📅 Data: 04/12/2025 \n🕗 Horário: 08h30 às 17h \n📍 Local: Universidade Federal de Itajubá – UNIFEI /\nInstituto de Engenharia de Produção e Gestão (IEPG)\nEndereço: IEPG\, Campus Prof. José Rodrigues Seabra – Av. BPS\, 1303 – Bairro Pinheirinho – Itajubá\, MG \n💡 Por que participar: \n\n\nConhecer tendências e práticas de inovação \n\n\nTrocar experiências com empresas\, startups e instituições \n\n\nFortalecer sua rede de contatos e impulsionar projetos estratégicos \n\n\nContribuir para a transição ecológica e digital na indústria \n\n\n👉 Garanta sua vaga e conecte-se ao futuro da inovação!\nJornada Nacional da Inovação – Etapa Estadual – Itajubá
URL:https://inovai.org.br/evento/jornada-nacional-da-inovacao/
LOCATION:Auditório Aureliano Chaves – IEPG/Unifei
CATEGORIES:Feira
ATTACH;FMTTYPE=image/png:https://inovai.org.br/wp-content/uploads/2025/11/CL000925_JORNADA_NACIONAL_DE_INOVA8783O_CARD_WPP_ALT2.png
END:VEVENT
END:VCALENDAR