BEGIN:VCALENDAR
VERSION:2.0
PRODID:-//INOVAI - ECPv6.0.13.1//NONSGML v1.0//EN
CALSCALE:GREGORIAN
METHOD:PUBLISH
X-WR-CALNAME:INOVAI
X-ORIGINAL-URL:https://inovai.org.br
X-WR-CALDESC:Eventos para INOVAI
REFRESH-INTERVAL;VALUE=DURATION:PT1H
X-Robots-Tag:noindex
X-PUBLISHED-TTL:PT1H
BEGIN:VTIMEZONE
TZID:America/Sao_Paulo
BEGIN:STANDARD
TZOFFSETFROM:-0300
TZOFFSETTO:-0300
TZNAME:-03
DTSTART:20250101T000000
END:STANDARD
END:VTIMEZONE
BEGIN:VEVENT
DTSTART;TZID=America/Sao_Paulo:20250520T160000
DTEND;TZID=America/Sao_Paulo:20250520T170000
DTSTAMP:20260420T170950
CREATED:20250512T122848Z
LAST-MODIFIED:20250512T122848Z
UID:10000111-1747756800-1747760400@inovai.org.br
SUMMARY:Apresentação do Programa Conexões Pós aceleração Parceria INCIT & BHTech
DESCRIPTION:  \n Apresentação do Programa Conexões Pós aceleração Parceria INCIT & BHTech \n🗓️ Dia: 20/05 (terça-feira) \n🕘 Horário: 16h \n📍 Auditório da INOVAI (Presencial) \n  \nO Programa Conexões tem como objeto fomentar conexões que gerem impacto positivo por meio de novas oportunidades de aprendizado técnico\, valorização dos negócios e expansão de mercado. \n  \nOferece como proposta de valor para as startups participantes: \n\nConexão com empresas\, investidores e mentores especializados;\nPrograma Equity Free\nCapacitação e desenvolvimento de habilidades (workshops\, treinamentos com especialis);\nInfraestrutura INCIT & BHTech;\nVisibilidade. \n\n  \nPrograma gratuito para as startups selecionadas.  \n  \n✏️ *Inscreva-se! Participe conosco!* \nhttps://bit.ly/ItajubaHardweek2025
URL:https://inovai.org.br/evento/apresentacao-do-programa-conexoes-pos-aceleracao-parceria-incit-bhtech/
LOCATION:Auditório da Inovai
CATEGORIES:Hardweek
ATTACH;FMTTYPE=image/png:https://inovai.org.br/wp-content/uploads/2025/05/Hardtalks-Startups-Sem-Fronteiras-Caminhos-para-a-Internacionalizacao-4.png
END:VEVENT
BEGIN:VEVENT
DTSTART;TZID=America/Sao_Paulo:20251016T100000
DTEND;TZID=America/Sao_Paulo:20251016T113000
DTSTAMP:20260420T170950
CREATED:20251010T135555Z
LAST-MODIFIED:20251010T135555Z
UID:10000129-1760608800-1760614200@inovai.org.br
SUMMARY:Workshop “Cultura Organizacional em Ambientes de Inovação”\, com Larissa Firmino e Aline Félix\, da GF Innovation.
DESCRIPTION:Workshop “Cultura Organizacional em Ambientes de Inovação”\, com Larissa Firmino e Aline Félix\, da GF Innovation. \n  \nNeste workshop\, você vai mergulhar no DNA da inovação da GF Innovation\, entendendo como governança\, autonomia e colaboração formam a base de uma cultura que impulsiona a execução e o aprendizado contínuo. \nPor meio de exemplos práticos e uma dinâmica interativa sobre vieses cognitivos\, refletiremos juntos sobre como nossos comportamentos moldam a inovação. \n  \nPrepare-se para repensar processos\, inspirar times e construir uma cultura viva\, ética e orientada por dados. \n  \n🗓️ Dia: 16/10 (quinta-feira) \n🕘 Horário: 10h \n📍 Evento presencial\, INOVAI \n  \nLarissa Firmino atua como Analista de RH desde 2023 e tem como propósito alinhar os objetivos individuais das pessoas com os da empresa\, promovendo o desenvolvimento pessoal e profissional de cada colaborador. Trabalhar com pessoas é um desafio constante\, mas também sua maior motivação. \n  \nAline Félix\, é dedicada a conhecer diferentes áreas da profissão\, participando de ações acadêmicas\, visitas técnicas\, palestras e processos seletivos\, entusiasta sobre o papel da Psicologia nas organizações. \n  \n✏️ *Inscreva-se! Participe conosco!* \nhttps://bit.ly/ItajubaHardweek2025
URL:https://inovai.org.br/evento/workshop-cultura-organizacional-em-ambientes-de-inovacao-com-larissa-firmino-e-aline-felix-da-gf-innovation/
LOCATION:Auditório da Inovai
CATEGORIES:Hardweek
ATTACH;FMTTYPE=image/jpeg:https://inovai.org.br/wp-content/uploads/2025/10/HardTalks-A-importancia-da-comunicacao-para-o-empreendedor-1.jpg
END:VEVENT
END:VCALENDAR