BEGIN:VCALENDAR
VERSION:2.0
PRODID:-//INOVAI - ECPv6.0.13.1//NONSGML v1.0//EN
CALSCALE:GREGORIAN
METHOD:PUBLISH
X-WR-CALNAME:INOVAI
X-ORIGINAL-URL:https://inovai.org.br
X-WR-CALDESC:Eventos para INOVAI
REFRESH-INTERVAL;VALUE=DURATION:PT1H
X-Robots-Tag:noindex
X-PUBLISHED-TTL:PT1H
BEGIN:VTIMEZONE
TZID:America/Sao_Paulo
BEGIN:STANDARD
TZOFFSETFROM:-0300
TZOFFSETTO:-0300
TZNAME:-03
DTSTART:20240101T000000
END:STANDARD
END:VTIMEZONE
BEGIN:VEVENT
DTSTART;TZID=America/Sao_Paulo:20240314T160000
DTEND;TZID=America/Sao_Paulo:20240314T170000
DTSTAMP:20260420T172313
CREATED:20240308T161133Z
LAST-MODIFIED:20240308T161133Z
UID:10000055-1710432000-1710435600@inovai.org.br
SUMMARY:HardWeek Março 24 – Road Show CEMIG – Inova Cemig Labs
DESCRIPTION:Inovai – HardWeek Março 24 \n▪️ Road Show CEMIG – Inova Cemig Labs \n⏰ 14/03 – 16h | Presencial: Auditório do Excen\, Prédio J1\, Unifei. \n👉🏼 Inscreva-se:
URL:https://inovai.org.br/evento/hardweek-marco-24-road-show-cemig-inova-cemig-labs/
LOCATION:Excen – J1
CATEGORIES:Hardweek
ATTACH;FMTTYPE=image/png:https://inovai.org.br/wp-content/uploads/2024/03/6.png
END:VEVENT
END:VCALENDAR