BEGIN:VCALENDAR
VERSION:2.0
PRODID:-//INOVAI - ECPv6.0.13.1//NONSGML v1.0//EN
CALSCALE:GREGORIAN
METHOD:PUBLISH
X-ORIGINAL-URL:https://inovai.org.br
X-WR-CALDESC:Eventos para INOVAI
REFRESH-INTERVAL;VALUE=DURATION:PT1H
X-Robots-Tag:noindex
X-PUBLISHED-TTL:PT1H
BEGIN:VTIMEZONE
TZID:America/Sao_Paulo
BEGIN:STANDARD
TZOFFSETFROM:-0300
TZOFFSETTO:-0300
TZNAME:-03
DTSTART:20240101T000000
END:STANDARD
END:VTIMEZONE
BEGIN:VEVENT
DTSTART;TZID=America/Sao_Paulo:20240314T180000
DTEND;TZID=America/Sao_Paulo:20240314T200000
DTSTAMP:20260420T155536
CREATED:20240308T170855Z
LAST-MODIFIED:20240308T170855Z
UID:10000056-1710439200-1710446400@inovai.org.br
SUMMARY:HardWeek Março 24 – Happy Hour Cemig
DESCRIPTION:Inovai – HardWeek Março 24 \n▪️ Happy Hour Cemig \n⏰ 14/03 – 18h | Presencial: Jybá Beer Garden \n👉🏼 Inscreva-se:
URL:https://inovai.org.br/evento/hardweek-marco-24-happy-hour-cemig/
LOCATION:Jybá Beer Garden
CATEGORIES:Happy Hour,Hardweek
ATTACH;FMTTYPE=image/png:https://inovai.org.br/wp-content/uploads/2024/03/7.png
END:VEVENT
END:VCALENDAR