BEGIN:VCALENDAR
VERSION:2.0
PRODID:-//INOVAI - ECPv6.0.13.1//NONSGML v1.0//EN
CALSCALE:GREGORIAN
METHOD:PUBLISH
X-ORIGINAL-URL:https://inovai.org.br
X-WR-CALDESC:Eventos para INOVAI
REFRESH-INTERVAL;VALUE=DURATION:PT1H
X-Robots-Tag:noindex
X-PUBLISHED-TTL:PT1H
BEGIN:VTIMEZONE
TZID:America/Sao_Paulo
BEGIN:STANDARD
TZOFFSETFROM:-0300
TZOFFSETTO:-0300
TZNAME:-03
DTSTART:20230101T000000
END:STANDARD
END:VTIMEZONE
BEGIN:VEVENT
DTSTART;VALUE=DATE:20231118
DTEND;VALUE=DATE:20231119
DTSTAMP:20260420T173043
CREATED:20230920T130006Z
LAST-MODIFIED:20230920T130006Z
UID:10000017-1700265600-1700351999@inovai.org.br
SUMMARY:[SAVE THE DATE] TEDx UNIFEI
DESCRIPTION:
URL:https://inovai.org.br/evento/save-the-date-tedx-unifei/
CATEGORIES:Palestra
END:VEVENT
BEGIN:VEVENT
DTSTART;TZID=America/Sao_Paulo:20231006T180000
DTEND;TZID=America/Sao_Paulo:20231008T200000
DTSTAMP:20260420T173043
CREATED:20230920T125524Z
LAST-MODIFIED:20230920T125644Z
UID:10000016-1696615200-1696795200@inovai.org.br
SUMMARY:NASA International Space Apps Challenge
DESCRIPTION:O maior hackathon do mundo!\nEm 48 horas os participantes têm a oportunidade de resolver um desafio proposto pela NASA envolvendo problemas reais da Terra e do espaço. Com auxílio de mentores e acesso ao banco de dados da agência. \nOs projetos mais inovadores e de maior impacto entram para a categoria de ganhadores globais do NASA SPACE APPS CHALLENGE.
URL:https://inovai.org.br/evento/nasa-international-space-apps-challenge/
LOCATION:Coworking CEU\, Avenida BPS\, 1303 - Prédio IEPG\, Itajubá\, Minas Gerais\, 37500903
CATEGORIES:Competição
ATTACH;FMTTYPE=image/jpeg:https://inovai.org.br/wp-content/uploads/2023/09/nasa-space-apps.jpg
END:VEVENT
END:VCALENDAR