BEGIN:VCALENDAR
VERSION:2.0
PRODID:-//INOVAI - ECPv6.0.13.1//NONSGML v1.0//EN
CALSCALE:GREGORIAN
METHOD:PUBLISH
X-WR-CALNAME:INOVAI
X-ORIGINAL-URL:https://inovai.org.br
X-WR-CALDESC:Eventos para INOVAI
REFRESH-INTERVAL;VALUE=DURATION:PT1H
X-Robots-Tag:noindex
X-PUBLISHED-TTL:PT1H
BEGIN:VTIMEZONE
TZID:America/Sao_Paulo
BEGIN:STANDARD
TZOFFSETFROM:-0300
TZOFFSETTO:-0300
TZNAME:-03
DTSTART:20240101T000000
END:STANDARD
END:VTIMEZONE
BEGIN:VEVENT
DTSTART;VALUE=DATE:20240617
DTEND;VALUE=DATE:20240621
DTSTAMP:20260420T172706
CREATED:20240226T200051Z
LAST-MODIFIED:20240226T200310Z
UID:10000049-1718582400-1718927999@inovai.org.br
SUMMARY:HardTech Innovation 2024
DESCRIPTION:PROGRAMAÇÃO PRELIMINAR:  \nProdutos SEBRAE: \n\nVarejo+\nSebrae Play\nRodada de Negócios Itajubá HardTech\nFatorS Agita\n+ Industria – MIND\nELi Summit MInas\n\nConteúdos: \n\nVerticais de negócios: Energia\, Asas Rotativas\, Defesa\, Smart Cities\, Metalmecânico;\nMeetups com empreendedores;\nPalestras;\nWorkshops\n\nCompetições Tecnológicas: \n\nCompetição de robótica\nArena Gamer\nCompetição de Drones\n\nApresentações Culturais \n\nCozinha Show\nVisitas técnicas aos ambientes de inovação e centros de pesquisa\nStands institucionais espaço dedicado as instituições de ensino e pesquisa\, associações de classe\, indústrias e startups para apresentar seus produtos e serviços inovadores\n\n  \nEm breve\, divulgaremos a programação completa do evento: serão 4 dias intensos de conteúdos\, experiências\, palestras e negócios
URL:https://inovai.org.br/evento/hardtech-innovation-2024/
LOCATION:ExpoCenter Itajubá\, Parque de Itajubá\, Itajubá\, Minas Gerais\, Brasil
CATEGORIES:HardTech Innovation
ATTACH;FMTTYPE=image/jpeg:https://inovai.org.br/wp-content/uploads/2024/02/WhatsApp-Image-2024-02-26-at-16.49.29.jpeg
END:VEVENT
BEGIN:VEVENT
DTSTART;TZID=America/Sao_Paulo:20240316T090000
DTEND;TZID=America/Sao_Paulo:20240316T110000
DTSTAMP:20260420T172706
CREATED:20240308T171349Z
LAST-MODIFIED:20240308T171349Z
UID:10000058-1710579600-1710586800@inovai.org.br
SUMMARY:HardWeek Março 24 – Painel Startup Day
DESCRIPTION:Inovai – HardWeek Março 24 \nPainel Startup Day \n⏰ 16/03 – 09h | Presencial: Sala de Metodologias CEDUC Unifei \n👉🏼 Confira a programação e inscreva-se:  \n 
URL:https://inovai.org.br/evento/hardweek-marco-24-painel-startup-day/
LOCATION:CEDUC Unifei
CATEGORIES:Hardweek
ATTACH;FMTTYPE=image/png:https://inovai.org.br/wp-content/uploads/2024/03/9.png
END:VEVENT
END:VCALENDAR